BEGIN:VCALENDAR
VERSION:2.0
PRODID:-//Elisabeth-Selbert-Gemeinschaftsschule - ECPv6.2.2//NONSGML v1.0//EN
CALSCALE:GREGORIAN
METHOD:PUBLISH
X-WR-CALNAME:Elisabeth-Selbert-Gemeinschaftsschule
X-ORIGINAL-URL:https://www.elisabeth-selbert-gemeinschaftsschule.de
X-WR-CALDESC:Veranstaltungen für Elisabeth-Selbert-Gemeinschaftsschule
REFRESH-INTERVAL;VALUE=DURATION:PT1H
X-Robots-Tag:noindex
X-PUBLISHED-TTL:PT1H
BEGIN:VTIMEZONE
TZID:Europe/Berlin
BEGIN:DAYLIGHT
TZOFFSETFROM:+0100
TZOFFSETTO:+0200
TZNAME:CEST
DTSTART:20240331T010000
END:DAYLIGHT
BEGIN:STANDARD
TZOFFSETFROM:+0200
TZOFFSETTO:+0100
TZNAME:CET
DTSTART:20241027T010000
END:STANDARD
BEGIN:DAYLIGHT
TZOFFSETFROM:+0100
TZOFFSETTO:+0200
TZNAME:CEST
DTSTART:20250330T010000
END:DAYLIGHT
BEGIN:STANDARD
TZOFFSETFROM:+0200
TZOFFSETTO:+0100
TZNAME:CET
DTSTART:20251026T010000
END:STANDARD
END:VTIMEZONE
BEGIN:VEVENT
DTSTART;TZID=Europe/Berlin:20241219T080000
DTEND;TZID=Europe/Berlin:20250107T170000
DTSTAMP:20260424T171834
CREATED:20240903T142329Z
LAST-MODIFIED:20240903T142329Z
UID:3613-1734595200-1736269200@www.elisabeth-selbert-gemeinschaftsschule.de
SUMMARY:Weihnachtsferien
DESCRIPTION:
URL:https://www.elisabeth-selbert-gemeinschaftsschule.de/kalender/weihnachtsferien/
END:VEVENT
BEGIN:VEVENT
DTSTART;TZID=Europe/Berlin:20250113T080000
DTEND;TZID=Europe/Berlin:20250114T133000
DTSTAMP:20260424T171834
CREATED:20240903T142400Z
LAST-MODIFIED:20240903T142425Z
UID:3615-1736755200-1736861400@www.elisabeth-selbert-gemeinschaftsschule.de
SUMMARY:Projektpräsentationen Jg 9
DESCRIPTION:Bitte auf die Prüfpläne achten!
URL:https://www.elisabeth-selbert-gemeinschaftsschule.de/kalender/projektpraesentationen-jg-9/
END:VEVENT
BEGIN:VEVENT
DTSTART;TZID=Europe/Berlin:20250129T193000
DTEND;TZID=Europe/Berlin:20250129T203000
DTSTAMP:20260424T171834
CREATED:20240903T142638Z
LAST-MODIFIED:20240903T142638Z
UID:3620-1738179000-1738182600@www.elisabeth-selbert-gemeinschaftsschule.de
SUMMARY:Schulkonferenz
DESCRIPTION:
URL:https://www.elisabeth-selbert-gemeinschaftsschule.de/kalender/schulkonferenz-2/
END:VEVENT
BEGIN:VEVENT
DTSTART;TZID=Europe/Berlin:20250131T100000
DTEND;TZID=Europe/Berlin:20250131T110000
DTSTAMP:20260424T171834
CREATED:20240903T143001Z
LAST-MODIFIED:20240903T143001Z
UID:3622-1738317600-1738321200@www.elisabeth-selbert-gemeinschaftsschule.de
SUMMARY:Zeugnisse
DESCRIPTION:
URL:https://www.elisabeth-selbert-gemeinschaftsschule.de/kalender/zeugnisse-3/
END:VEVENT
END:VCALENDAR