BEGIN:VCALENDAR
VERSION:2.0
PRODID:-//Elisabeth-Selbert-Gemeinschaftsschule - ECPv6.2.2//NONSGML v1.0//EN
CALSCALE:GREGORIAN
METHOD:PUBLISH
X-ORIGINAL-URL:https://www.elisabeth-selbert-gemeinschaftsschule.de
X-WR-CALDESC:Veranstaltungen für Elisabeth-Selbert-Gemeinschaftsschule
REFRESH-INTERVAL;VALUE=DURATION:PT1H
X-Robots-Tag:noindex
X-PUBLISHED-TTL:PT1H
BEGIN:VTIMEZONE
TZID:Europe/Berlin
BEGIN:DAYLIGHT
TZOFFSETFROM:+0100
TZOFFSETTO:+0200
TZNAME:CEST
DTSTART:20240331T010000
END:DAYLIGHT
BEGIN:STANDARD
TZOFFSETFROM:+0200
TZOFFSETTO:+0100
TZNAME:CET
DTSTART:20241027T010000
END:STANDARD
BEGIN:DAYLIGHT
TZOFFSETFROM:+0100
TZOFFSETTO:+0200
TZNAME:CEST
DTSTART:20250330T010000
END:DAYLIGHT
BEGIN:STANDARD
TZOFFSETFROM:+0200
TZOFFSETTO:+0100
TZNAME:CET
DTSTART:20251026T010000
END:STANDARD
END:VTIMEZONE
BEGIN:VEVENT
DTSTART;TZID=Europe/Berlin:20241213T000000
DTEND;TZID=Europe/Berlin:20241213T000000
DTSTAMP:20260424T152452
CREATED:20241213T171620Z
LAST-MODIFIED:20241216T113854Z
UID:3903-1734048000-1734048000@www.elisabeth-selbert-gemeinschaftsschule.de
SUMMARY:Infoveranstaltung
DESCRIPTION:Informationsabend für Schülerinnen und Schüler der 4. Klassen \nab 16:30 Uhr: „Offene Schule“\nfür Eltern und Schüler/innen\n18:00 Uhr: Informationsveranstaltung für die Eltern\,\nBetreuung für die Kinder in dieser Zeit
URL:https://www.elisabeth-selbert-gemeinschaftsschule.de/kalender/infoveranstaltung/
END:VEVENT
BEGIN:VEVENT
DTSTART;TZID=Europe/Berlin:20241216T180000
DTEND;TZID=Europe/Berlin:20241217T200000
DTSTAMP:20260424T152452
CREATED:20240903T142154Z
LAST-MODIFIED:20240903T142154Z
UID:3611-1734372000-1734465600@www.elisabeth-selbert-gemeinschaftsschule.de
SUMMARY:Musical Aufführung
DESCRIPTION:
URL:https://www.elisabeth-selbert-gemeinschaftsschule.de/kalender/musical-auffuehrung/
END:VEVENT
BEGIN:VEVENT
DTSTART;TZID=Europe/Berlin:20241218T190000
DTEND;TZID=Europe/Berlin:20241218T200000
DTSTAMP:20260424T152452
CREATED:20241215T150258Z
LAST-MODIFIED:20241215T150258Z
UID:3920-1734548400-1734552000@www.elisabeth-selbert-gemeinschaftsschule.de
SUMMARY:SEB Sitzung
DESCRIPTION:
URL:https://www.elisabeth-selbert-gemeinschaftsschule.de/kalender/seb-sitzung-2/
END:VEVENT
BEGIN:VEVENT
DTSTART;TZID=Europe/Berlin:20241219T080000
DTEND;TZID=Europe/Berlin:20250107T170000
DTSTAMP:20260424T152452
CREATED:20240903T142329Z
LAST-MODIFIED:20240903T142329Z
UID:3613-1734595200-1736269200@www.elisabeth-selbert-gemeinschaftsschule.de
SUMMARY:Weihnachtsferien
DESCRIPTION:
URL:https://www.elisabeth-selbert-gemeinschaftsschule.de/kalender/weihnachtsferien/
END:VEVENT
END:VCALENDAR