BEGIN:VCALENDAR
VERSION:2.0
PRODID:-//Elisabeth-Selbert-Gemeinschaftsschule - ECPv6.2.2//NONSGML v1.0//EN
CALSCALE:GREGORIAN
METHOD:PUBLISH
X-ORIGINAL-URL:https://www.elisabeth-selbert-gemeinschaftsschule.de
X-WR-CALDESC:Veranstaltungen für Elisabeth-Selbert-Gemeinschaftsschule
REFRESH-INTERVAL;VALUE=DURATION:PT1H
X-Robots-Tag:noindex
X-PUBLISHED-TTL:PT1H
BEGIN:VTIMEZONE
TZID:Europe/Berlin
BEGIN:DAYLIGHT
TZOFFSETFROM:+0100
TZOFFSETTO:+0200
TZNAME:CEST
DTSTART:20240331T010000
END:DAYLIGHT
BEGIN:STANDARD
TZOFFSETFROM:+0200
TZOFFSETTO:+0100
TZNAME:CET
DTSTART:20241027T010000
END:STANDARD
END:VTIMEZONE
BEGIN:VEVENT
DTSTART;TZID=Europe/Berlin:20241001T193000
DTEND;TZID=Europe/Berlin:20241001T203000
DTSTAMP:20260424T121750
CREATED:20240903T141509Z
LAST-MODIFIED:20240903T141509Z
UID:3599-1727811000-1727814600@www.elisabeth-selbert-gemeinschaftsschule.de
SUMMARY:SEB
DESCRIPTION:Sitzung Schulelternbeirat
URL:https://www.elisabeth-selbert-gemeinschaftsschule.de/kalender/seb/
END:VEVENT
BEGIN:VEVENT
DTSTART;TZID=Europe/Berlin:20241003T070000
DTEND;TZID=Europe/Berlin:20241003T133000
DTSTAMP:20260424T121750
CREATED:20240903T141556Z
LAST-MODIFIED:20240903T141556Z
UID:3601-1727938800-1727962200@www.elisabeth-selbert-gemeinschaftsschule.de
SUMMARY:Tag der Deutschen Einheit
DESCRIPTION:schulfrei
URL:https://www.elisabeth-selbert-gemeinschaftsschule.de/kalender/tag-der-deutschen-einheit/
END:VEVENT
BEGIN:VEVENT
DTSTART;TZID=Europe/Berlin:20241007T080000
DTEND;TZID=Europe/Berlin:20241018T170000
DTSTAMP:20260424T121750
CREATED:20240903T141652Z
LAST-MODIFIED:20240903T141652Z
UID:3603-1728288000-1729270800@www.elisabeth-selbert-gemeinschaftsschule.de
SUMMARY:Praktikum Jg 9
DESCRIPTION:
URL:https://www.elisabeth-selbert-gemeinschaftsschule.de/kalender/praktikum-jg-9/
END:VEVENT
BEGIN:VEVENT
DTSTART;TZID=Europe/Berlin:20241015T190000
DTEND;TZID=Europe/Berlin:20241015T210000
DTSTAMP:20260424T121750
CREATED:20240903T141830Z
LAST-MODIFIED:20240903T141830Z
UID:3605-1729018800-1729026000@www.elisabeth-selbert-gemeinschaftsschule.de
SUMMARY:Elternabend BO
DESCRIPTION:Elternabend Berufsorientierung mit Schülerinnen und Schülern
URL:https://www.elisabeth-selbert-gemeinschaftsschule.de/kalender/elternabend-bo/
LOCATION:Alte Krummlandhalle
END:VEVENT
BEGIN:VEVENT
DTSTART;TZID=Europe/Berlin:20241021T080000
DTEND;TZID=Europe/Berlin:20241101T170000
DTSTAMP:20260424T121750
CREATED:20240903T141921Z
LAST-MODIFIED:20240903T141921Z
UID:3607-1729497600-1730480400@www.elisabeth-selbert-gemeinschaftsschule.de
SUMMARY:Herbstferien
DESCRIPTION:
URL:https://www.elisabeth-selbert-gemeinschaftsschule.de/kalender/herbstferien/
END:VEVENT
END:VCALENDAR