BEGIN:VCALENDAR
VERSION:2.0
PRODID:-//Elisabeth-Selbert-Gemeinschaftsschule - ECPv6.2.2//NONSGML v1.0//EN
CALSCALE:GREGORIAN
METHOD:PUBLISH
X-WR-CALNAME:Elisabeth-Selbert-Gemeinschaftsschule
X-ORIGINAL-URL:https://www.elisabeth-selbert-gemeinschaftsschule.de
X-WR-CALDESC:Veranstaltungen für Elisabeth-Selbert-Gemeinschaftsschule
REFRESH-INTERVAL;VALUE=DURATION:PT1H
X-Robots-Tag:noindex
X-PUBLISHED-TTL:PT1H
BEGIN:VTIMEZONE
TZID:Europe/Berlin
BEGIN:DAYLIGHT
TZOFFSETFROM:+0100
TZOFFSETTO:+0200
TZNAME:CEST
DTSTART:20240331T010000
END:DAYLIGHT
BEGIN:STANDARD
TZOFFSETFROM:+0200
TZOFFSETTO:+0100
TZNAME:CET
DTSTART:20241027T010000
END:STANDARD
END:VTIMEZONE
BEGIN:VEVENT
DTSTART;TZID=Europe/Berlin:20240711T120000
DTEND;TZID=Europe/Berlin:20240711T170000
DTSTAMP:20260420T152144
CREATED:20231021T123207Z
LAST-MODIFIED:20231021T123329Z
UID:2755-1720699200-1720717200@www.elisabeth-selbert-gemeinschaftsschule.de
SUMMARY:Feierliche Zeugnisübergabe
DESCRIPTION:Feierliche Zeugnisübergabe für die Jahrgänge 9 + 10. Bitte Terminplan beachten.
URL:https://www.elisabeth-selbert-gemeinschaftsschule.de/kalender/feierliche-zeugnissuebergabe/
LOCATION:Alte Krummlandhalle
END:VEVENT
BEGIN:VEVENT
DTSTART;TZID=Europe/Berlin:20240718T170000
DTEND;TZID=Europe/Berlin:20240718T200000
DTSTAMP:20260420T152144
CREATED:20240609T114046Z
LAST-MODIFIED:20240708T100411Z
UID:3381-1721322000-1721332800@www.elisabeth-selbert-gemeinschaftsschule.de
SUMMARY:Schulfest
DESCRIPTION:Schulfest der ESG auf dem Schulgelände
URL:https://www.elisabeth-selbert-gemeinschaftsschule.de/kalender/schulfest/
END:VEVENT
BEGIN:VEVENT
DTSTART;TZID=Europe/Berlin:20240719T073000
DTEND;TZID=Europe/Berlin:20240719T110000
DTSTAMP:20260420T152144
CREATED:20231021T123052Z
LAST-MODIFIED:20231021T123052Z
UID:2753-1721374200-1721386800@www.elisabeth-selbert-gemeinschaftsschule.de
SUMMARY:Zeugnisse
DESCRIPTION:Letzter Schultag vor den Sommerferien. 1. + 2. Stunde Fachlehrerunterricht\, 3. Stunde Klassenlehrerunterricht mit Zeugnisausgabe.
URL:https://www.elisabeth-selbert-gemeinschaftsschule.de/kalender/zeugnisse-2/
END:VEVENT
BEGIN:VEVENT
DTSTART;VALUE=DATE:20240722
DTEND;VALUE=DATE:20240901
DTSTAMP:20260420T152144
CREATED:20231110T180412Z
LAST-MODIFIED:20231110T180456Z
UID:2824-1721606400-1725148799@www.elisabeth-selbert-gemeinschaftsschule.de
SUMMARY:Sommerferien
DESCRIPTION:
URL:https://www.elisabeth-selbert-gemeinschaftsschule.de/kalender/sommerferien/
END:VEVENT
END:VCALENDAR