BEGIN:VCALENDAR
VERSION:2.0
PRODID:-//Elisabeth-Selbert-Gemeinschaftsschule - ECPv6.2.2//NONSGML v1.0//EN
CALSCALE:GREGORIAN
METHOD:PUBLISH
X-WR-CALNAME:Elisabeth-Selbert-Gemeinschaftsschule
X-ORIGINAL-URL:https://www.elisabeth-selbert-gemeinschaftsschule.de
X-WR-CALDESC:Veranstaltungen für Elisabeth-Selbert-Gemeinschaftsschule
REFRESH-INTERVAL;VALUE=DURATION:PT1H
X-Robots-Tag:noindex
X-PUBLISHED-TTL:PT1H
BEGIN:VTIMEZONE
TZID:Europe/Berlin
BEGIN:DAYLIGHT
TZOFFSETFROM:+0100
TZOFFSETTO:+0200
TZNAME:CEST
DTSTART:20250330T010000
END:DAYLIGHT
BEGIN:STANDARD
TZOFFSETFROM:+0200
TZOFFSETTO:+0100
TZNAME:CET
DTSTART:20251026T010000
END:STANDARD
END:VTIMEZONE
BEGIN:VEVENT
DTSTART;TZID=Europe/Berlin:20250203T074000
DTEND;TZID=Europe/Berlin:20250203T133000
DTSTAMP:20260424T203651
CREATED:20240903T143537Z
LAST-MODIFIED:20240903T143537Z
UID:3624-1738568400-1738589400@www.elisabeth-selbert-gemeinschaftsschule.de
SUMMARY:SET
DESCRIPTION:Lehrerfortbildungstag – schulfrei
URL:https://www.elisabeth-selbert-gemeinschaftsschule.de/kalender/set/
END:VEVENT
END:VCALENDAR