BEGIN:VCALENDAR
VERSION:2.0
PRODID:-//Elisabeth-Selbert-Gemeinschaftsschule - ECPv6.2.2//NONSGML v1.0//EN
CALSCALE:GREGORIAN
METHOD:PUBLISH
X-ORIGINAL-URL:https://www.elisabeth-selbert-gemeinschaftsschule.de
X-WR-CALDESC:Veranstaltungen für Elisabeth-Selbert-Gemeinschaftsschule
REFRESH-INTERVAL;VALUE=DURATION:PT1H
X-Robots-Tag:noindex
X-PUBLISHED-TTL:PT1H
BEGIN:VTIMEZONE
TZID:Europe/Berlin
BEGIN:DAYLIGHT
TZOFFSETFROM:+0100
TZOFFSETTO:+0200
TZNAME:CEST
DTSTART:20240331T010000
END:DAYLIGHT
BEGIN:STANDARD
TZOFFSETFROM:+0200
TZOFFSETTO:+0100
TZNAME:CET
DTSTART:20241027T010000
END:STANDARD
END:VTIMEZONE
BEGIN:VEVENT
DTSTART;TZID=Europe/Berlin:20240924T183000
DTEND;TZID=Europe/Berlin:20240924T193000
DTSTAMP:20260420T200033
CREATED:20240903T141420Z
LAST-MODIFIED:20240903T141420Z
UID:3597-1727202600-1727206200@www.elisabeth-selbert-gemeinschaftsschule.de
SUMMARY:Elternabend Jg 5 + 6 +7
DESCRIPTION:
URL:https://www.elisabeth-selbert-gemeinschaftsschule.de/kalender/elternabend-jg-5-6-7/
END:VEVENT
END:VCALENDAR