BEGIN:VCALENDAR
VERSION:2.0
PRODID:-//Elisabeth-Selbert-Gemeinschaftsschule - ECPv6.2.2//NONSGML v1.0//EN
CALSCALE:GREGORIAN
METHOD:PUBLISH
X-WR-CALNAME:Elisabeth-Selbert-Gemeinschaftsschule
X-ORIGINAL-URL:https://www.elisabeth-selbert-gemeinschaftsschule.de
X-WR-CALDESC:Veranstaltungen für Elisabeth-Selbert-Gemeinschaftsschule
REFRESH-INTERVAL;VALUE=DURATION:PT1H
X-Robots-Tag:noindex
X-PUBLISHED-TTL:PT1H
BEGIN:VTIMEZONE
TZID:Europe/Berlin
BEGIN:DAYLIGHT
TZOFFSETFROM:+0100
TZOFFSETTO:+0200
TZNAME:CEST
DTSTART:20240331T010000
END:DAYLIGHT
BEGIN:STANDARD
TZOFFSETFROM:+0200
TZOFFSETTO:+0100
TZNAME:CET
DTSTART:20241027T010000
END:STANDARD
END:VTIMEZONE
BEGIN:VEVENT
DTSTART;TZID=Europe/Berlin:20240718T170000
DTEND;TZID=Europe/Berlin:20240718T200000
DTSTAMP:20260420T165932
CREATED:20240609T114046Z
LAST-MODIFIED:20240708T100411Z
UID:3381-1721322000-1721332800@www.elisabeth-selbert-gemeinschaftsschule.de
SUMMARY:Schulfest
DESCRIPTION:Schulfest der ESG auf dem Schulgelände
URL:https://www.elisabeth-selbert-gemeinschaftsschule.de/kalender/schulfest/
END:VEVENT
END:VCALENDAR