BEGIN:VCALENDAR
VERSION:2.0
PRODID:-//Elisabeth-Selbert-Gemeinschaftsschule - ECPv6.2.2//NONSGML v1.0//EN
CALSCALE:GREGORIAN
METHOD:PUBLISH
X-WR-CALNAME:Elisabeth-Selbert-Gemeinschaftsschule
X-ORIGINAL-URL:https://www.elisabeth-selbert-gemeinschaftsschule.de
X-WR-CALDESC:Veranstaltungen für Elisabeth-Selbert-Gemeinschaftsschule
REFRESH-INTERVAL;VALUE=DURATION:PT1H
X-Robots-Tag:noindex
X-PUBLISHED-TTL:PT1H
BEGIN:VTIMEZONE
TZID:Europe/Berlin
BEGIN:DAYLIGHT
TZOFFSETFROM:+0100
TZOFFSETTO:+0200
TZNAME:CEST
DTSTART:20240331T010000
END:DAYLIGHT
BEGIN:STANDARD
TZOFFSETFROM:+0200
TZOFFSETTO:+0100
TZNAME:CET
DTSTART:20241027T010000
END:STANDARD
END:VTIMEZONE
BEGIN:VEVENT
DTSTART;TZID=Europe/Berlin:20240603T070000
DTEND;TZID=Europe/Berlin:20240607T133000
DTSTAMP:20260420T152513
CREATED:20240118T162429Z
LAST-MODIFIED:20240118T162429Z
UID:3034-1717398000-1717767000@www.elisabeth-selbert-gemeinschaftsschule.de
SUMMARY:ESG aufs Rad
DESCRIPTION:
URL:https://www.elisabeth-selbert-gemeinschaftsschule.de/kalender/esg-aufs-rad/
END:VEVENT
BEGIN:VEVENT
DTSTART;TZID=Europe/Berlin:20240604T073000
DTEND;TZID=Europe/Berlin:20240604T133000
DTSTAMP:20260420T152513
CREATED:20231021T122824Z
LAST-MODIFIED:20231021T122824Z
UID:2749-1717486200-1717507800@www.elisabeth-selbert-gemeinschaftsschule.de
SUMMARY:Nachschreibtermin Englisch
DESCRIPTION:Nachschreibtermin für den ESA/ MSA
URL:https://www.elisabeth-selbert-gemeinschaftsschule.de/kalender/nachschreibtermin-englisch/
END:VEVENT
BEGIN:VEVENT
DTSTART;TZID=Europe/Berlin:20240604T080000
DTEND;TZID=Europe/Berlin:20240604T170000
DTSTAMP:20260420T152513
CREATED:20240524T092528Z
LAST-MODIFIED:20240524T092528Z
UID:3321-1717488000-1717520400@www.elisabeth-selbert-gemeinschaftsschule.de
SUMMARY:Schulfrei (SET)
DESCRIPTION:Schulentwicklungstag für Lehrkräfte\, kein Unterricht!
URL:https://www.elisabeth-selbert-gemeinschaftsschule.de/kalender/schulfrei-set/
END:VEVENT
END:VCALENDAR